BEGIN:VCALENDAR
VERSION:2.0
PRODID:-//Geethanjali
CALSCALE:GREGORIAN
METHOD:PUBLISH
X-WR-CALNAME:Geethanjali
X-ORIGINAL-URL:https://gist.edu.in/gist/event/remote-sensing-geographical-information-system-3/
X-WR-CALDESC:Remote Sensing &#038; Geographical Information System
BEGIN:VEVENT
DTSTART:
DTEND:
SUMMARY:Remote Sensing &#038; Geographical Information System
DESCRIPTION:A Report on Remote Sensing & Geographical Information System
LOCATION:
END:VEVENT
END:VCALENDAR
