BEGIN:VCALENDAR
VERSION:2.0
PRODID:-//Geethanjali
CALSCALE:GREGORIAN
METHOD:PUBLISH
X-WR-CALNAME:Geethanjali
X-ORIGINAL-URL:https://gist.edu.in/gist/event/a-five-day-workshop-big-data-ecosystem-on-real-world/
X-WR-CALDESC:A Five Day Workshop Big Data Ecosystem on Real- world
BEGIN:VEVENT
DTSTART:
DTEND:
SUMMARY:A Five Day Workshop Big Data Ecosystem on Real- world
DESCRIPTION:A Report on  Five Day Workshop Big Data Ecosystem on Real- world 
LOCATION:
END:VEVENT
END:VCALENDAR
