BEGIN:VCALENDAR
VERSION:2.0
PRODID:-//Geethanjali
CALSCALE:GREGORIAN
METHOD:PUBLISH
X-WR-CALNAME:Geethanjali
X-ORIGINAL-URL:https://gist.edu.in/gist/event/machine-learning-using-python-2/
X-WR-CALDESC:Machine Learning Using Python
BEGIN:VEVENT
DTSTART:
DTEND:
SUMMARY:Machine Learning Using Python
DESCRIPTION:A Five Day  Faculty development programme on Machine Learning Using Python
LOCATION:
END:VEVENT
END:VCALENDAR
