BEGIN:VCALENDAR
VERSION:2.0
PRODID:-//Geethanjali
CALSCALE:GREGORIAN
METHOD:PUBLISH
X-WR-CALNAME:Geethanjali
X-ORIGINAL-URL:https://gist.edu.in/gist/event/workshop-on-ipr-for-students-and-faculty-members/
X-WR-CALDESC:Workshop on IPR for Students and Faculty Members
BEGIN:VEVENT
DTSTART:
DTEND:
SUMMARY:Workshop on IPR for Students and Faculty Members
DESCRIPTION:Facebook Live Session by Ms. Shwetasree Majumder, Principal, Fidus Law Chamber
LOCATION:
END:VEVENT
END:VCALENDAR
