BEGIN:VCALENDAR
VERSION:2.0
PRODID:-//Geethanjali
CALSCALE:GREGORIAN
METHOD:PUBLISH
X-WR-CALNAME:Geethanjali
X-ORIGINAL-URL:https://gist.edu.in/gist/event/workshop-big-data-ecosystem-on-real-world/
X-WR-CALDESC:Workshop Big Data Ecosystem on Real-World
BEGIN:VEVENT
DTSTART:
DTEND:
SUMMARY:Workshop Big Data Ecosystem on Real-World
DESCRIPTION:A Five Day Workshop Big Data Ecosystem on Real- world
LOCATION:
END:VEVENT
END:VCALENDAR
