BEGIN:VCALENDAR
VERSION:2.0
PRODID:-//Geethanjali
CALSCALE:GREGORIAN
METHOD:PUBLISH
X-WR-CALNAME:Geethanjali
X-ORIGINAL-URL:https://gist.edu.in/gist/event/land-survey-using-total-station/
X-WR-CALDESC:LAND SURVEY USING TOTAL STATION
BEGIN:VEVENT
DTSTART:
DTEND:
SUMMARY:LAND SURVEY USING TOTAL STATION
DESCRIPTION:CERTIFICATE COURSE ON LAND SURVEY USING TOTAL STATION 


LOCATION:
END:VEVENT
END:VCALENDAR
