BEGIN:VCALENDAR
VERSION:2.0
PRODID:-//Geethanjali
CALSCALE:GREGORIAN
METHOD:PUBLISH
X-WR-CALNAME:Geethanjali
X-ORIGINAL-URL:https://gist.edu.in/gist/event/smart-india-hackathon-2019/
X-WR-CALDESC:Smart India Hackathon 2019
BEGIN:VEVENT
DTSTART:
DTEND:
SUMMARY:Smart India Hackathon 2019
DESCRIPTION:A Report on Smart India Hackathon 2019
LOCATION:
END:VEVENT
END:VCALENDAR
