BEGIN:VCALENDAR
VERSION:2.0
PRODID:-//Geethanjali
CALSCALE:GREGORIAN
METHOD:PUBLISH
X-WR-CALNAME:Geethanjali
X-ORIGINAL-URL:https://gist.edu.in/gist/event/awareness-programme-on-life-skills/
X-WR-CALDESC:Awareness programme on Life Skills
BEGIN:VEVENT
DTSTART:
DTEND:
SUMMARY:Awareness programme on Life Skills
DESCRIPTION:Awareness programme on Life Skills
LOCATION:
END:VEVENT
END:VCALENDAR
