BEGIN:VCALENDAR
VERSION:2.0
PRODID:-//Geethanjali
CALSCALE:GREGORIAN
METHOD:PUBLISH
X-WR-CALNAME:Geethanjali
X-ORIGINAL-URL:https://gist.edu.in/gist/event/guest-lecture-by-dr-j-suresh-kumar/
X-WR-CALDESC:Guest Lecture by Dr. J. Suresh Kumar
BEGIN:VEVENT
DTSTART:
DTEND:
SUMMARY:Guest Lecture by Dr. J. Suresh Kumar
DESCRIPTION:A Guest Lecture by Dr. J. Suresh Kumar
LOCATION:
END:VEVENT
END:VCALENDAR
