BEGIN:VCALENDAR
VERSION:2.0
PRODID:-//Geethanjali
CALSCALE:GREGORIAN
METHOD:PUBLISH
X-WR-CALNAME:Geethanjali
X-ORIGINAL-URL:https://gist.edu.in/gist/event/extending-support-to-kerala-flood-victims/
X-WR-CALDESC:Extending Support to Kerala Flood Victims
BEGIN:VEVENT
DTSTART:
DTEND:
SUMMARY:Extending Support to Kerala Flood Victims
DESCRIPTION:Extending Support to Kerala Flood Victims
LOCATION:
END:VEVENT
END:VCALENDAR
