BEGIN:VCALENDAR
VERSION:2.0
PRODID:-//Geethanjali
CALSCALE:GREGORIAN
METHOD:PUBLISH
X-WR-CALNAME:Geethanjali
X-ORIGINAL-URL:https://gist.edu.in/gist/event/national-mathematics-day/
X-WR-CALDESC:National Mathematics Day
BEGIN:VEVENT
DTSTART:
DTEND:
SUMMARY:National Mathematics Day
DESCRIPTION:National Mathematics Day Celebrations
LOCATION:
END:VEVENT
END:VCALENDAR
