BEGIN:VCALENDAR
VERSION:2.0
PRODID:-//Geethanjali
CALSCALE:GREGORIAN
METHOD:PUBLISH
X-WR-CALNAME:Geethanjali
X-ORIGINAL-URL:https://gist.edu.in/gist/event/engineers-day-celebrations/
X-WR-CALDESC:Engineers Day Celebrations
BEGIN:VEVENT
DTSTART:
DTEND:
SUMMARY:Engineers Day Celebrations
DESCRIPTION:Report on Engineers Day Celebrations
LOCATION:
END:VEVENT
END:VCALENDAR
