BEGIN:VCALENDAR
VERSION:2.0
PRODID:-//Geethanjali
CALSCALE:GREGORIAN
METHOD:PUBLISH
X-WR-CALNAME:Geethanjali
X-ORIGINAL-URL:https://gist.edu.in/gist/event/dr-b-r-ambedkars-birthday-celebrations/
X-WR-CALDESC:Dr. B.R. Ambedkar&#8217;s Birthday Celebrations
BEGIN:VEVENT
DTSTART:
DTEND:
SUMMARY:Dr. B.R. Ambedkar&#8217;s Birthday Celebrations
DESCRIPTION:Report on Dr. B.R. Ambedkar's Birthday Celebrations
LOCATION:
END:VEVENT
END:VCALENDAR
