BEGIN:VCALENDAR
VERSION:2.0
PRODID:-//Geethanjali
CALSCALE:GREGORIAN
METHOD:PUBLISH
X-WR-CALNAME:Geethanjali
X-ORIGINAL-URL:https://gist.edu.in/gist/event/police-commemoration-day/
X-WR-CALDESC:Police Commemoration Day
BEGIN:VEVENT
DTSTART:
DTEND:
SUMMARY:Police Commemoration Day
DESCRIPTION:Report on Police Commemoration Day
LOCATION:
END:VEVENT
END:VCALENDAR
