BEGIN:VCALENDAR
VERSION:2.0
PRODID:-//Geethanjali
CALSCALE:GREGORIAN
METHOD:PUBLISH
X-WR-CALNAME:Geethanjali
X-ORIGINAL-URL:https://gist.edu.in/gist/event/gandhi-jayanthi-celebrations/
X-WR-CALDESC:Gandhi Jayanthi Celebrations
BEGIN:VEVENT
DTSTART:
DTEND:
SUMMARY:Gandhi Jayanthi Celebrations
DESCRIPTION:Report on Gandhi Jayanthi Celebrations 
LOCATION:
END:VEVENT
END:VCALENDAR
