BEGIN:VCALENDAR
VERSION:2.0
PRODID:-//Geethanjali
CALSCALE:GREGORIAN
METHOD:PUBLISH
X-WR-CALNAME:Geethanjali
X-ORIGINAL-URL:https://gist.edu.in/gist/event/national-womens-day-2/
X-WR-CALDESC:National Women’s Day
BEGIN:VEVENT
DTSTART:
DTEND:
SUMMARY:National Women’s Day
DESCRIPTION:Report on National Women’s Day
LOCATION:
END:VEVENT
END:VCALENDAR
