BEGIN:VCALENDAR
VERSION:2.0
PRODID:-//Geethanjali
CALSCALE:GREGORIAN
METHOD:PUBLISH
X-WR-CALNAME:Geethanjali
X-ORIGINAL-URL:https://gist.edu.in/gist/event/vanam-manam-2/
X-WR-CALDESC:Vanam-Manam
BEGIN:VEVENT
DTSTART:
DTEND:
SUMMARY:Vanam-Manam
DESCRIPTION:Report on Vanam-Manam 
LOCATION:
END:VEVENT
END:VCALENDAR
