BEGIN:VCALENDAR
VERSION:2.0
PRODID:-//Geethanjali
CALSCALE:GREGORIAN
METHOD:PUBLISH
X-WR-CALNAME:Geethanjali
X-ORIGINAL-URL:https://gist.edu.in/gist/event/mass-national-anthem/
X-WR-CALDESC:Mass National Anthem
BEGIN:VEVENT
DTSTART:
DTEND:
SUMMARY:Mass National Anthem
DESCRIPTION:Report on Mass National Anthem
LOCATION:
END:VEVENT
END:VCALENDAR
