BEGIN:VCALENDAR
VERSION:2.0
PRODID:-//Geethanjali
CALSCALE:GREGORIAN
METHOD:PUBLISH
X-WR-CALNAME:Geethanjali
X-ORIGINAL-URL:https://gist.edu.in/gist/event/sankranthi-sambaralu-2/
X-WR-CALDESC:Sankranthi sambaralu
BEGIN:VEVENT
DTSTART:
DTEND:
SUMMARY:Sankranthi sambaralu
DESCRIPTION:Sankranthi sambaralu
LOCATION:
END:VEVENT
END:VCALENDAR
