BEGIN:VCALENDAR
VERSION:2.0
PRODID:-//Geethanjali
CALSCALE:GREGORIAN
METHOD:PUBLISH
X-WR-CALNAME:Geethanjali
X-ORIGINAL-URL:https://gist.edu.in/gist/event/nss-foundation-day-2/
X-WR-CALDESC:NSS Foundation Day
BEGIN:VEVENT
DTSTART:
DTEND:
SUMMARY:NSS Foundation Day
DESCRIPTION:NSS Foundation Day
LOCATION:
END:VEVENT
END:VCALENDAR
