BEGIN:VCALENDAR
VERSION:2.0
PRODID:-//Geethanjali
CALSCALE:GREGORIAN
METHOD:PUBLISH
X-WR-CALNAME:Geethanjali
X-ORIGINAL-URL:https://gist.edu.in/gist/event/equality-of-men-and-women/
X-WR-CALDESC:Equality of men and women
BEGIN:VEVENT
DTSTART:
DTEND:
SUMMARY:Equality of men and women
DESCRIPTION:Equality of men and women
LOCATION:
END:VEVENT
END:VCALENDAR
