BEGIN:VCALENDAR
VERSION:2.0
PRODID:-//Geethanjali
CALSCALE:GREGORIAN
METHOD:PUBLISH
X-WR-CALNAME:Geethanjali
X-ORIGINAL-URL:https://gist.edu.in/gist/event/sankranthi-sambaralu/
X-WR-CALDESC:Sankranthi Sambaralu
BEGIN:VEVENT
DTSTART:
DTEND:
SUMMARY:Sankranthi Sambaralu
DESCRIPTION:Sankranthi Sambaralu
LOCATION:
END:VEVENT
END:VCALENDAR
