BEGIN:VCALENDAR
VERSION:2.0
PRODID:-//Geethanjali
CALSCALE:GREGORIAN
METHOD:PUBLISH
X-WR-CALNAME:Geethanjali
X-ORIGINAL-URL:https://gist.edu.in/gist/event/donation-of-desktop-to-s-k-k-r-govt-junior-college/
X-WR-CALDESC:Donation of Desktop to S.K.K.R Govt Junior College
BEGIN:VEVENT
DTSTART:
DTEND:
SUMMARY:Donation of Desktop to S.K.K.R Govt Junior College
DESCRIPTION:Desktop donated to Govt Junior College
LOCATION:
END:VEVENT
END:VCALENDAR
