BEGIN:VCALENDAR
VERSION:2.0
PRODID:-//Geethanjali
CALSCALE:GREGORIAN
METHOD:PUBLISH
X-WR-CALNAME:Geethanjali
X-ORIGINAL-URL:https://gist.edu.in/gist/event/we-cant-help-every-one-but-every-one-can-help-someone/
X-WR-CALDESC:We Can&#8217;t Help Every one But Every one Can Help Someone
BEGIN:VEVENT
DTSTART:
DTEND:
SUMMARY:We Can&#8217;t Help Every one But Every one Can Help Someone
DESCRIPTION:We Can't Help Every one But Every one Can Help Someone
LOCATION:
END:VEVENT
END:VCALENDAR
