BEGIN:VCALENDAR
VERSION:2.0
PRODID:-//Geethanjali
CALSCALE:GREGORIAN
METHOD:PUBLISH
X-WR-CALNAME:Geethanjali
X-ORIGINAL-URL:https://gist.edu.in/gist/event/somasila-dam-field-trip/
X-WR-CALDESC:Somasila Dam Field Trip
BEGIN:VEVENT
DTSTART:
DTEND:
SUMMARY:Somasila Dam Field Trip
DESCRIPTION: Somasila Dam Field Trip
LOCATION:
END:VEVENT
END:VCALENDAR
