BEGIN:VCALENDAR
VERSION:2.0
PRODID:-//Geethanjali
CALSCALE:GREGORIAN
METHOD:PUBLISH
X-WR-CALNAME:Geethanjali
X-ORIGINAL-URL:https://gist.edu.in/gist/event/nellore-bombay-highway-visit/
X-WR-CALDESC:Nellore-Bombay Highway Field Trip
BEGIN:VEVENT
DTSTART:
DTEND:
SUMMARY:Nellore-Bombay Highway Field Trip
DESCRIPTION:Nellore - Bombay Highway Visit
LOCATION:
END:VEVENT
END:VCALENDAR
