BEGIN:VCALENDAR
VERSION:2.0
PRODID:-//Geethanjali
CALSCALE:GREGORIAN
METHOD:PUBLISH
X-WR-CALNAME:Geethanjali
X-ORIGINAL-URL:https://gist.edu.in/gist/event/career-guidance-programme-on-aptitude-copyrighted-shortcuts-student-interaction/
X-WR-CALDESC:Career Guidance Programme on Aptitude Copyrighted Shortcuts Student Interaction
BEGIN:VEVENT
DTSTART:
DTEND:
SUMMARY:Career Guidance Programme on Aptitude Copyrighted Shortcuts Student Interaction
DESCRIPTION:Career Guidance Programme
LOCATION:
END:VEVENT
END:VCALENDAR
