BEGIN:VCALENDAR
VERSION:2.0
PRODID:-//Geethanjali
CALSCALE:GREGORIAN
METHOD:PUBLISH
X-WR-CALNAME:Geethanjali
X-ORIGINAL-URL:https://gist.edu.in/gist/event/a-six-day-hands-on-workshop-on-basics-of-auto-cad/
X-WR-CALDESC:A Six Day Hands-On Workshop on Basics of Auto CAD
BEGIN:VEVENT
DTSTART:
DTEND:
SUMMARY:A Six Day Hands-On Workshop on Basics of Auto CAD
DESCRIPTION:Workshop on Basics of Auto CAD
LOCATION:
END:VEVENT
END:VCALENDAR
