BEGIN:VCALENDAR
VERSION:2.0
PRODID:-//Geethanjali
CALSCALE:GREGORIAN
METHOD:PUBLISH
X-WR-CALNAME:Geethanjali
X-ORIGINAL-URL:https://gist.edu.in/gist/event/a-six-day-hands-on-fdp-on-revit-architecture/
X-WR-CALDESC:A Six Day Hands-on FDP on Revit Architecture
BEGIN:VEVENT
DTSTART:
DTEND:
SUMMARY:A Six Day Hands-on FDP on Revit Architecture
DESCRIPTION:FDP on Revit Architecture
LOCATION:
END:VEVENT
END:VCALENDAR
