BEGIN:VCALENDAR
VERSION:2.0
PRODID:-//Geethanjali
CALSCALE:GREGORIAN
METHOD:PUBLISH
X-WR-CALNAME:Geethanjali
X-ORIGINAL-URL:https://gist.edu.in/gist/event/childrens-day-celebrations-2/
X-WR-CALDESC:Children&#8217;s Day Celebrations
BEGIN:VEVENT
DTSTART:
DTEND:
SUMMARY:Children&#8217;s Day Celebrations
DESCRIPTION:A Report on Children's Day Celebrations
LOCATION:
END:VEVENT
END:VCALENDAR
