BEGIN:VCALENDAR
VERSION:2.0
PRODID:-//Geethanjali
CALSCALE:GREGORIAN
METHOD:PUBLISH
X-WR-CALNAME:Geethanjali
X-ORIGINAL-URL:https://gist.edu.in/gist/event/national-constitution-day-celebrations/
X-WR-CALDESC:National Constitution Day Celebrations
BEGIN:VEVENT
DTSTART:
DTEND:
SUMMARY:National Constitution Day Celebrations
DESCRIPTION:A Report on National Constitution Day Celebrations
LOCATION:
END:VEVENT
END:VCALENDAR
