BEGIN:VCALENDAR
VERSION:2.0
PRODID:-//Geethanjali
CALSCALE:GREGORIAN
METHOD:PUBLISH
X-WR-CALNAME:Geethanjali
X-ORIGINAL-URL:https://gist.edu.in/gist/event/international-literacy-day/
X-WR-CALDESC:International Literacy Day
BEGIN:VEVENT
DTSTART:
DTEND:
SUMMARY:International Literacy Day
DESCRIPTION:A Report on International Literacy Day
LOCATION:
END:VEVENT
END:VCALENDAR
