BEGIN:VCALENDAR
VERSION:2.0
PRODID:-//Geethanjali
CALSCALE:GREGORIAN
METHOD:PUBLISH
X-WR-CALNAME:Geethanjali
X-ORIGINAL-URL:https://gist.edu.in/gist/event/national-constitution-day-programme/
X-WR-CALDESC:National Constitution Day Programme
BEGIN:VEVENT
DTSTART:
DTEND:
SUMMARY:National Constitution Day Programme
DESCRIPTION:A Report on National Constitution Day Programme
LOCATION:
END:VEVENT
END:VCALENDAR
