BEGIN:VCALENDAR
VERSION:2.0
PRODID:-//Geethanjali
CALSCALE:GREGORIAN
METHOD:PUBLISH
X-WR-CALNAME:Geethanjali
X-ORIGINAL-URL:https://gist.edu.in/gist/event/world-water-day/
X-WR-CALDESC:World Water Day
BEGIN:VEVENT
DTSTART:
DTEND:
SUMMARY:World Water Day
DESCRIPTION:A Report on World Water Day Celebrations
LOCATION:
END:VEVENT
END:VCALENDAR
