BEGIN:VCALENDAR
VERSION:2.0
PRODID:-//Geethanjali
CALSCALE:GREGORIAN
METHOD:PUBLISH
X-WR-CALNAME:Geethanjali
X-ORIGINAL-URL:https://gist.edu.in/gist/event/health-camp-rural-area/
X-WR-CALDESC:Health Camp Rural Area
BEGIN:VEVENT
DTSTART:
DTEND:
SUMMARY:Health Camp Rural Area
DESCRIPTION:A Report on Health Camp organized in rural area
LOCATION:
END:VEVENT
END:VCALENDAR
