BEGIN:VCALENDAR
VERSION:2.0
PRODID:-//Geethanjali
CALSCALE:GREGORIAN
METHOD:PUBLISH
X-WR-CALNAME:Geethanjali
X-ORIGINAL-URL:https://gist.edu.in/gist/event/awareness-programme-on-enrollment-as-voter/
X-WR-CALDESC:Awareness Programme on Enrollment as Voter
BEGIN:VEVENT
DTSTART:
DTEND:
SUMMARY:Awareness Programme on Enrollment as Voter
DESCRIPTION:Awareness on Enrollment as Voter
LOCATION:
END:VEVENT
END:VCALENDAR
