BEGIN:VCALENDAR
VERSION:2.0
PRODID:-//Geethanjali
CALSCALE:GREGORIAN
METHOD:PUBLISH
X-WR-CALNAME:Geethanjali
X-ORIGINAL-URL:https://gist.edu.in/gist/event/llr-mela-learner-license-register/
X-WR-CALDESC:LLR MELA: Learner License Register
BEGIN:VEVENT
DTSTART:
DTEND:
SUMMARY:LLR MELA: Learner License Register
DESCRIPTION:A Report on LLR Mela
LOCATION:
END:VEVENT
END:VCALENDAR
