BEGIN:VCALENDAR
VERSION:2.0
PRODID:-//Geethanjali
CALSCALE:GREGORIAN
METHOD:PUBLISH
X-WR-CALNAME:Geethanjali
X-ORIGINAL-URL:https://gist.edu.in/gist/event/awareness-program-usage-of-toilets/
X-WR-CALDESC:Awareness program on  usage of Toilets
BEGIN:VEVENT
DTSTART:
DTEND:
SUMMARY:Awareness program on  usage of Toilets
DESCRIPTION:A Report on Awareness program on  usage of Toilets
LOCATION:
END:VEVENT
END:VCALENDAR
