BEGIN:VCALENDAR
VERSION:2.0
PRODID:-//Geethanjali
CALSCALE:GREGORIAN
METHOD:PUBLISH
X-WR-CALNAME:Geethanjali
X-ORIGINAL-URL:https://gist.edu.in/gist/event/rally-on-mosquitoes/
X-WR-CALDESC:Rally on Mosquitoes
BEGIN:VEVENT
DTSTART:
DTEND:
SUMMARY:Rally on Mosquitoes
DESCRIPTION:A Report on Rally on Mosquitoes
LOCATION:
END:VEVENT
END:VCALENDAR
