BEGIN:VCALENDAR
VERSION:2.0
PRODID:-//Geethanjali
CALSCALE:GREGORIAN
METHOD:PUBLISH
X-WR-CALNAME:Geethanjali
X-ORIGINAL-URL:https://gist.edu.in/gist/event/pulse-polio-programme/
X-WR-CALDESC:Pulse Polio Programme
BEGIN:VEVENT
DTSTART:
DTEND:
SUMMARY:Pulse Polio Programme
DESCRIPTION:A Report on  Pulse Polio Programme
LOCATION:
END:VEVENT
END:VCALENDAR
