BEGIN:VCALENDAR
VERSION:2.0
PRODID:-//Geethanjali
CALSCALE:GREGORIAN
METHOD:PUBLISH
X-WR-CALNAME:Geethanjali
X-ORIGINAL-URL:https://gist.edu.in/gist/event/services-rendered-during-krishna-pushkaralu/
X-WR-CALDESC:Services Rendered During Krishna Pushkaralu
BEGIN:VEVENT
DTSTART:
DTEND:
SUMMARY:Services Rendered During Krishna Pushkaralu
DESCRIPTION:A Report on Services Rendered During Krishna Pushkaralu
LOCATION:
END:VEVENT
END:VCALENDAR
