BEGIN:VCALENDAR
VERSION:2.0
PRODID:-//Geethanjali
CALSCALE:GREGORIAN
METHOD:PUBLISH
X-WR-CALNAME:Geethanjali
X-ORIGINAL-URL:https://gist.edu.in/gist/event/literacy-awareness-programme-2/
X-WR-CALDESC:Literacy Awareness Programme
BEGIN:VEVENT
DTSTART:
DTEND:
SUMMARY:Literacy Awareness Programme
DESCRIPTION:A Report on Literacy Awareness Programme 
LOCATION:
END:VEVENT
END:VCALENDAR
