BEGIN:VCALENDAR
VERSION:2.0
PRODID:-//Geethanjali
CALSCALE:GREGORIAN
METHOD:PUBLISH
X-WR-CALNAME:Geethanjali
X-ORIGINAL-URL:https://gist.edu.in/gist/event/blood-donation-camp/
X-WR-CALDESC:Blood Donation camp
BEGIN:VEVENT
DTSTART:
DTEND:
SUMMARY:Blood Donation camp
DESCRIPTION:A Report on Blood Donation camp
LOCATION:
END:VEVENT
END:VCALENDAR
