BEGIN:VCALENDAR
VERSION:2.0
PRODID:-//Geethanjali
CALSCALE:GREGORIAN
METHOD:PUBLISH
X-WR-CALNAME:Geethanjali
X-ORIGINAL-URL:https://gist.edu.in/gist/event/plantation-programme/
X-WR-CALDESC:Plantation Programme
BEGIN:VEVENT
DTSTART:
DTEND:
SUMMARY:Plantation Programme
DESCRIPTION:A Report on Plantation Programme
LOCATION:
END:VEVENT
END:VCALENDAR
