BEGIN:VCALENDAR
VERSION:2.0
PRODID:-//Geethanjali
CALSCALE:GREGORIAN
METHOD:PUBLISH
X-WR-CALNAME:Geethanjali
X-ORIGINAL-URL:https://gist.edu.in/gist/event/cloud-literacy-day/
X-WR-CALDESC:Cloud Literacy Day
BEGIN:VEVENT
DTSTART:
DTEND:
SUMMARY:Cloud Literacy Day
DESCRIPTION:Cloud Literacy Day 2018
LOCATION:
END:VEVENT
END:VCALENDAR
