BEGIN:VCALENDAR
VERSION:2.0
PRODID:-//Geethanjali
CALSCALE:GREGORIAN
METHOD:PUBLISH
X-WR-CALNAME:Geethanjali
X-ORIGINAL-URL:https://gist.edu.in/gist/event/indian-coast-guard-student-interaction/
X-WR-CALDESC:Indian Coast Guard: Student Interaction
BEGIN:VEVENT
DTSTART:
DTEND:
SUMMARY:Indian Coast Guard: Student Interaction
DESCRIPTION:Career Guidance Program -  Indian Coast Guard: Student Interaction
LOCATION:
END:VEVENT
END:VCALENDAR
