BEGIN:VCALENDAR
VERSION:2.0
PRODID:-//Geethanjali
CALSCALE:GREGORIAN
METHOD:PUBLISH
X-WR-CALNAME:Geethanjali
X-ORIGINAL-URL:https://gist.edu.in/gist/event/career-guidance-programme/
X-WR-CALDESC:Educational &#038; Migration Services: Student Interaction
BEGIN:VEVENT
DTSTART:
DTEND:
SUMMARY:Educational &#038; Migration Services: Student Interaction
DESCRIPTION:Career Guidance Program - Educational & Migration Services: Student Interaction
LOCATION:
END:VEVENT
END:VCALENDAR
