BEGIN:VCALENDAR
VERSION:2.0
PRODID:-//Geethanjali
CALSCALE:GREGORIAN
METHOD:PUBLISH
X-WR-CALNAME:Geethanjali
X-ORIGINAL-URL:https://gist.edu.in/gist/event/wheebox-employability-skills-test/
X-WR-CALDESC:Wheebox Employability Skills Test
BEGIN:VEVENT
DTSTART:
DTEND:
SUMMARY:Wheebox Employability Skills Test
DESCRIPTION:WEST-2018
LOCATION:
END:VEVENT
END:VCALENDAR
