BEGIN:VCALENDAR
VERSION:2.0
PRODID:-//Geethanjali
CALSCALE:GREGORIAN
METHOD:PUBLISH
X-WR-CALNAME:Geethanjali
X-ORIGINAL-URL:https://gist.edu.in/gist/event/geethanjali-generous-gesture-to-skkr-govt-jr-college-damaramadugu/
X-WR-CALDESC:GEETHANJALI  GENEROUS GESTURE TO SKKR GOVT.JR.COLLEGE, DAMARAMADUGU
BEGIN:VEVENT
DTSTART:
DTEND:
SUMMARY:GEETHANJALI  GENEROUS GESTURE TO SKKR GOVT.JR.COLLEGE, DAMARAMADUGU
DESCRIPTION:GENEROUS GESTURE TO SKKR GOVT.JR.COLLEGE,DAMARAMADUGU
LOCATION:
END:VEVENT
END:VCALENDAR
