BEGIN:VCALENDAR
VERSION:2.0
PRODID:-//Geethanjali
CALSCALE:GREGORIAN
METHOD:PUBLISH
X-WR-CALNAME:Geethanjali
X-ORIGINAL-URL:https://gist.edu.in/gist/event/cyber-security-in-everyday-life/
X-WR-CALDESC:Seminar on Cyber Security in Everyday Life
BEGIN:VEVENT
DTSTART:
DTEND:
SUMMARY:Seminar on Cyber Security in Everyday Life
DESCRIPTION:A One Day Seminar on Cyber Security in Everyday Life

LOCATION:
END:VEVENT
END:VCALENDAR
